BEGIN:VCALENDAR
VERSION:2.0
PRODID:-//CERN//INDICO//EN
BEGIN:VEVENT
SUMMARY:Invited talk  7 “Noise-induced nonlinear dynamics of a driven na
 nomechanical resonator”
DTSTART;VALUE=DATE-TIME:20190625T094500Z
DTEND;VALUE=DATE-TIME:20190625T103000Z
DTSTAMP;VALUE=DATE-TIME:20240229T220917Z
UID:indico-contribution-17@ictp.it
DESCRIPTION:Speakers: EVA WEIG ()\n//indico.ictp.it/event/8693/session/5/c
 ontribution/17
LOCATION:ICTP Adriatico Guest House - Kastler Lecture Hall
URL://indico.ictp.it/event/8693/session/5/contribution/17
END:VEVENT
END:VCALENDAR
