BEGIN:VCALENDAR
VERSION:2.0
PRODID:-//CERN//INDICO//EN
BEGIN:VEVENT
SUMMARY:Invited talk 11 “Molecular Dynamics Simulations of low-dimension
 al Materials: Accurate Force Field Generation and Investigation of Phononi
 c Properties”
DTSTART;VALUE=DATE-TIME:20190626T074500Z
DTEND;VALUE=DATE-TIME:20190626T083000Z
DTSTAMP;VALUE=DATE-TIME:20240229T220920Z
UID:indico-contribution-24@ictp.it
DESCRIPTION:Speakers: CEM SEVIK ()\n//indico.ictp.it/event/8693/session/6/
 contribution/24
LOCATION:ICTP Adriatico Guest House - Kastler Lecture Hall
URL://indico.ictp.it/event/8693/session/6/contribution/24
END:VEVENT
END:VCALENDAR
