BEGIN:VCALENDAR
VERSION:2.0
PRODID:-//CERN//INDICO//EN
BEGIN:VEVENT
SUMMARY:Invited talk 20 “Interfacial thermal transport: from Kapitza to 
 near field heat transfer”
DTSTART;VALUE=DATE-TIME:20190627T140000Z
DTEND;VALUE=DATE-TIME:20190627T144500Z
DTSTAMP;VALUE=DATE-TIME:20240229T220837Z
UID:indico-contribution-33@ictp.it
DESCRIPTION:Speakers: SAMI MERABIA ()\n//indico.ictp.it/event/8693/session
 /7/contribution/33
LOCATION:ICTP Adriatico Guest House - Kastler Lecture Hall
URL://indico.ictp.it/event/8693/session/7/contribution/33
END:VEVENT
END:VCALENDAR
