BEGIN:VCALENDAR
VERSION:2.0
PRODID:-//CERN//INDICO//EN
BEGIN:VEVENT
SUMMARY:Contributed talk 7 “Monte Carlo simulation of the new generation
  transistors with low-dimensional material channels”
DTSTART;VALUE=DATE-TIME:20190628T081000Z
DTEND;VALUE=DATE-TIME:20190628T083500Z
DTSTAMP;VALUE=DATE-TIME:20240229T220857Z
UID:indico-contribution-37@ictp.it
DESCRIPTION:Speakers: ZAHRA SHOMALI ()\n//indico.ictp.it/event/8693/sessio
 n/8/contribution/37
LOCATION:ICTP Adriatico Guest House - Kastler Lecture Hall
URL://indico.ictp.it/event/8693/session/8/contribution/37
END:VEVENT
END:VCALENDAR
