BEGIN:VCALENDAR
VERSION:2.0
PRODID:-//CERN//INDICO//EN
BEGIN:VEVENT
SUMMARY:Administrative and Financial formalities
DTSTART;VALUE=DATE-TIME:20190624T063000Z
DTEND;VALUE=DATE-TIME:20190624T080000Z
DTSTAMP;VALUE=DATE-TIME:20240229T220459Z
UID:indico-contribution-0@ictp.it
DESCRIPTION:Speakers: \nREGISTRATION: Upon arrival\, Visitors not staying 
 in the ICTP Guest Houses\, are kindly requested to complete registration f
 ormalities at the Leonardo Building (Office 115) from 8.30 till 10.00\n\nT
 RAVEL UNIT (Only for those Visitors receiving daily living allowance/trave
 l reimbursement)  \nOnly after having completed registration formalities\,
  please go to the Travel Unit\, EF\, Main Entrance\, Room T17\, ground flo
 or\, open two days:  Monday and Friday\, 08.30 - 12.00  and 13.30 - 14.30\
 nPlease bring with you: badge/identity card or passport/any travel tickets
  and boarding passes\, if reimbursement due.\n\n//indico.ictp.it/event/869
 4/session/0/contribution/0
LOCATION:ICTP Euler Lecture Hall (LB)
URL://indico.ictp.it/event/8694/session/0/contribution/0
END:VEVENT
END:VCALENDAR
