BEGIN:VCALENDAR
VERSION:2.0
PRODID:-//CERN//INDICO//EN
BEGIN:VEVENT
SUMMARY:3. Defense-in-Depth and Design Plant Envelope
DTSTART;VALUE=DATE-TIME:20190624T130000Z
DTEND;VALUE=DATE-TIME:20190624T140000Z
DTSTAMP;VALUE=DATE-TIME:20240229T220415Z
UID:indico-contribution-5@ictp.it
DESCRIPTION:Speakers: MASSARA\, Simone (IAEA)\n//indico.ictp.it/event/8694
 /session/1/contribution/5
LOCATION:ICTP Euler Lecture Hall (LB)
URL://indico.ictp.it/event/8694/session/1/contribution/5
END:VEVENT
END:VCALENDAR
