BEGIN:VCALENDAR
VERSION:2.0
PRODID:-//CERN//INDICO//EN
BEGIN:VEVENT
SUMMARY:21. Decommissioning and Waste Management after Severe Accidents
DTSTART;VALUE=DATE-TIME:20190628T084500Z
DTEND;VALUE=DATE-TIME:20190628T093000Z
DTSTAMP;VALUE=DATE-TIME:20240229T220356Z
UID:indico-contribution-24@ictp.it
DESCRIPTION:Speakers: TROMM\, Walter (KIT)\n//indico.ictp.it/event/8694/se
 ssion/11/contribution/24
LOCATION:ICTP Euler Lecture Hall (LB)
URL://indico.ictp.it/event/8694/session/11/contribution/24
END:VEVENT
END:VCALENDAR
