BEGIN:VCALENDAR
VERSION:2.0
PRODID:-//CERN//INDICO//EN
BEGIN:VEVENT
SUMMARY:Welcome reception
DTSTART;VALUE=DATE-TIME:20190624T170000Z
DTEND;VALUE=DATE-TIME:20190624T190000Z
DTSTAMP;VALUE=DATE-TIME:20240229T220432Z
UID:indico-contribution-26@ictp.it
DESCRIPTION:Speakers: \nAll participants are cordially invited to attend t
 he welcome reception.\n\n//indico.ictp.it/event/8694/session/15/contributi
 on/26
LOCATION:ICTP Leonardo Building Terrace
URL://indico.ictp.it/event/8694/session/15/contribution/26
END:VEVENT
END:VCALENDAR
