BEGIN:VCALENDAR
VERSION:2.0
PRODID:-//CERN//INDICO//EN
BEGIN:VEVENT
SUMMARY:5. Classification of Severe Accidents Phenomena into Three Levels 
 of Scientific Knowledge: High\, Medium and Low
DTSTART;VALUE=DATE-TIME:20190625T063000Z
DTEND;VALUE=DATE-TIME:20190625T080000Z
DTSTAMP;VALUE=DATE-TIME:20240229T220428Z
UID:indico-contribution-7@ictp.it
DESCRIPTION:Speakers: HERRANZ\, Luis (Ciemat)\n//indico.ictp.it/event/8694
 /session/2/contribution/7
LOCATION:ICTP Euler Lecture Hall (LB)
URL://indico.ictp.it/event/8694/session/2/contribution/7
END:VEVENT
END:VCALENDAR
