BEGIN:VCALENDAR
VERSION:2.0
PRODID:-//CERN//INDICO//EN
BEGIN:VEVENT
SUMMARY:Administrative and Financial formalities
DTSTART;VALUE=DATE-TIME:20190701T063000Z
DTEND;VALUE=DATE-TIME:20190701T073000Z
DTSTAMP;VALUE=DATE-TIME:20240229T215728Z
UID:indico-contribution-0@ictp.it
DESCRIPTION:Speakers: \nREGISTRATION: Upon arrival\, Visitors not staying 
 in the ICTP Guest Houses\, are kindly requested to complete registration f
 ormalities at the Leonardo Building (Lobby) from 8.30 till 9.30\n\nTRAVEL 
 UNIT (Only for those Visitors receiving daily living allowance/travel reim
 bursement)  \nOnly after having completed registration formalities\, pleas
 e go to the Travel Unit\, EF\, Main Entrance\, Room T17\, ground floor\, o
 pen two days:  Monday and Friday\, 08.30 - 12.00 \nPlease bring with you: 
 badge/identity card or passport/any travel tickets and boarding passes\, i
 f reimbursement due.\n\n//indico.ictp.it/event/8695/session/0/contribution
 /0
LOCATION: Leonardo Building Lobby
URL://indico.ictp.it/event/8695/session/0/contribution/0
END:VEVENT
END:VCALENDAR
