BEGIN:VCALENDAR
VERSION:2.0
PRODID:-//CERN//INDICO//EN
BEGIN:VEVENT
SUMMARY:Lecture 4: The structure of enzymatic networks
DTSTART;VALUE=DATE-TIME:20190704T090000Z
DTEND;VALUE=DATE-TIME:20190704T103000Z
DTSTAMP;VALUE=DATE-TIME:20240229T215640Z
UID:indico-contribution-14@ictp.it
DESCRIPTION:Speakers: DICKENSTEIN\, Alicia (Universidad de Buenos Aires)\n
 //indico.ictp.it/event/8695/session/5/contribution/14
LOCATION:ICTP Budinich Lecture Hall (LB)
URL://indico.ictp.it/event/8695/session/5/contribution/14
END:VEVENT
END:VCALENDAR
