BEGIN:VCALENDAR
VERSION:2.0
PRODID:-//CERN//INDICO//EN
BEGIN:VEVENT
SUMMARY:Welcome Reception
DTSTART;VALUE=DATE-TIME:20190715T153000Z
DTEND;VALUE=DATE-TIME:20190715T173000Z
DTSTAMP;VALUE=DATE-TIME:20240229T215904Z
UID:indico-contribution-8@ictp.it
DESCRIPTION:Speakers: \nAll participants are cordially invited to attend t
 he welcome reception.\n\n//indico.ictp.it/event/8702/session/1/contributio
 n/8
LOCATION: Adriatico Gueshouse - Terrace
URL://indico.ictp.it/event/8702/session/1/contribution/8
END:VEVENT
END:VCALENDAR
