BEGIN:VCALENDAR
VERSION:2.0
PRODID:-//CERN//INDICO//EN
BEGIN:VEVENT
SUMMARY:Processes determining cloudiness distributions in EBUS regions: Pa
 rt 2
DTSTART;VALUE=DATE-TIME:20190716T074500Z
DTEND;VALUE=DATE-TIME:20190716T083000Z
DTSTAMP;VALUE=DATE-TIME:20240229T214925Z
UID:indico-contribution-10@ictp.it
DESCRIPTION:Speakers: PAQUITA ZUIDEMA (University of Miami)\n//indico.ictp
 .it/event/8702/session/2/contribution/10
LOCATION:ICTP Giambiagi Lecture Hall (AGH)
URL://indico.ictp.it/event/8702/session/2/contribution/10
END:VEVENT
END:VCALENDAR
