BEGIN:VCALENDAR
VERSION:2.0
PRODID:-//CERN//INDICO//EN
BEGIN:VEVENT
SUMMARY:Atm. circulation and coastal topography
DTSTART;VALUE=DATE-TIME:20190716T084500Z
DTEND;VALUE=DATE-TIME:20190716T093000Z
DTSTAMP;VALUE=DATE-TIME:20240229T215005Z
UID:indico-contribution-11@ictp.it
DESCRIPTION:Speakers: RENE GARREAUD (University of Chile)\n//indico.ictp.i
 t/event/8702/session/2/contribution/11
LOCATION:ICTP Giambiagi Lecture Hall (AGH)
URL://indico.ictp.it/event/8702/session/2/contribution/11
END:VEVENT
END:VCALENDAR
