BEGIN:VCALENDAR
VERSION:2.0
PRODID:-//CERN//INDICO//EN
BEGIN:VEVENT
SUMMARY:Data Analysis/Case Study
DTSTART;VALUE=DATE-TIME:20190716T140000Z
DTEND;VALUE=DATE-TIME:20190716T153000Z
DTSTAMP;VALUE=DATE-TIME:20240229T215501Z
UID:indico-contribution-14@ictp.it
DESCRIPTION:Speakers: \nIntroduction: Rene GARREAUD\, Ryan RYKACZEWSKI\, T
 homas TONIAZZO\, Paquita ZUIDEMA\; supervision: Lecturers\n\n//indico.ictp
 .it/event/8702/session/2/contribution/14
LOCATION:ICTP Giambiagi Lecture Hall (AGH)
URL://indico.ictp.it/event/8702/session/2/contribution/14
END:VEVENT
END:VCALENDAR
