BEGIN:VCALENDAR
VERSION:2.0
PRODID:-//CERN//INDICO//EN
BEGIN:VEVENT
SUMMARY:Large-scale biogeochemistry and plankton ecology in EBUS
DTSTART;VALUE=DATE-TIME:20190718T070000Z
DTEND;VALUE=DATE-TIME:20190718T074500Z
DTSTAMP;VALUE=DATE-TIME:20240229T214959Z
UID:indico-contribution-21@ictp.it
DESCRIPTION:Speakers: RYAN RYKACZEWSKI (University South Carolina)\n//indi
 co.ictp.it/event/8702/session/4/contribution/21
LOCATION:ICTP Giambiagi Lecture Hall (AGH)
URL://indico.ictp.it/event/8702/session/4/contribution/21
END:VEVENT
END:VCALENDAR
