BEGIN:VCALENDAR
VERSION:2.0
PRODID:-//CERN//INDICO//EN
BEGIN:VEVENT
SUMMARY:Data assimilation\; adjoint models
DTSTART;VALUE=DATE-TIME:20190718T101500Z
DTEND;VALUE=DATE-TIME:20190718T110000Z
DTSTAMP;VALUE=DATE-TIME:20240229T214955Z
UID:indico-contribution-25@ictp.it
DESCRIPTION:Speakers: ART MILLER (Scripps Institute of Oceanography)\n//in
 dico.ictp.it/event/8702/session/4/contribution/25
LOCATION:ICTP Giambiagi Lecture Hall (AGH)
URL://indico.ictp.it/event/8702/session/4/contribution/25
END:VEVENT
END:VCALENDAR
