BEGIN:VCALENDAR
VERSION:2.0
PRODID:-//CERN//INDICO//EN
BEGIN:VEVENT
SUMMARY:Equatorial and coastal wave teleconnections in the EBUSs
DTSTART;VALUE=DATE-TIME:20190719T070000Z
DTEND;VALUE=DATE-TIME:20190719T074500Z
DTSTAMP;VALUE=DATE-TIME:20240229T215021Z
UID:indico-contribution-27@ictp.it
DESCRIPTION:Speakers: ALBAN LAZAR (University Pierre and Marie Curie)\n//i
 ndico.ictp.it/event/8702/session/5/contribution/27
LOCATION:ICTP Giambiagi Lecture Hall (AGH)
URL://indico.ictp.it/event/8702/session/5/contribution/27
END:VEVENT
END:VCALENDAR
