BEGIN:VCALENDAR
VERSION:2.0
PRODID:-//CERN//INDICO//EN
BEGIN:VEVENT
SUMMARY:Coherence\, decoherence and Free-Electron Laser light
DTSTART;VALUE=DATE-TIME:20190729T124000Z
DTEND;VALUE=DATE-TIME:20190729T132000Z
DTSTAMP;VALUE=DATE-TIME:20240229T214527Z
UID:indico-contribution-34@ictp.it
DESCRIPTION:Speakers: KEVIN PRINCE (Elettra Sincrotrone)\n//indico.ictp.it
 /event/8705/session/4/contribution/34
LOCATION:ICTP Leonardo Building - Budinich Lecture Hall
URL://indico.ictp.it/event/8705/session/4/contribution/34
END:VEVENT
END:VCALENDAR
