BEGIN:VCALENDAR
VERSION:2.0
PRODID:-//CERN//INDICO//EN
BEGIN:VEVENT
SUMMARY:Femtosecond Covariance Spectroscopy
DTSTART;VALUE=DATE-TIME:20190729T142000Z
DTEND;VALUE=DATE-TIME:20190729T144000Z
DTSTAMP;VALUE=DATE-TIME:20240229T214623Z
UID:indico-contribution-36@ictp.it
DESCRIPTION:Speakers: GIORGIA SPARAPASSI (Elettra Sincrotrone)\n//indico.i
 ctp.it/event/8705/session/4/contribution/36
LOCATION:ICTP Leonardo Building - Budinich Lecture Hall
URL://indico.ictp.it/event/8705/session/4/contribution/36
END:VEVENT
END:VCALENDAR
