BEGIN:VCALENDAR
VERSION:2.0
PRODID:-//CERN//INDICO//EN
BEGIN:VEVENT
SUMMARY:Syncrhonisation\, coherence and decoherence in a bio-inspired vibr
 onic heterodimer
DTSTART;VALUE=DATE-TIME:20190731T124000Z
DTEND;VALUE=DATE-TIME:20190731T132000Z
DTSTAMP;VALUE=DATE-TIME:20240229T214526Z
UID:indico-contribution-57@ictp.it
DESCRIPTION:Speakers: ALEXANDRA OLAYA-CASTRO (University College London)\n
 //indico.ictp.it/event/8705/session/6/contribution/57
LOCATION:ICTP Leonardo Building - Budinich Lecture Hall
URL://indico.ictp.it/event/8705/session/6/contribution/57
END:VEVENT
END:VCALENDAR
