BEGIN:VCALENDAR
VERSION:2.0
PRODID:-//CERN//INDICO//EN
BEGIN:VEVENT
SUMMARY:Photodoped charge transfer insulators
DTSTART;VALUE=DATE-TIME:20190731T134000Z
DTEND;VALUE=DATE-TIME:20190731T142000Z
DTSTAMP;VALUE=DATE-TIME:20240229T214618Z
UID:indico-contribution-58@ictp.it
DESCRIPTION:Speakers: DENIS GOLEZ (NCCR MARVEL\, Lausanne)\n//indico.ictp.
 it/event/8705/session/6/contribution/58
LOCATION:ICTP Leonardo Building - Budinich Lecture Hall
URL://indico.ictp.it/event/8705/session/6/contribution/58
END:VEVENT
END:VCALENDAR
