BEGIN:VCALENDAR
VERSION:2.0
PRODID:-//CERN//INDICO//EN
BEGIN:VEVENT
SUMMARY:Energetic cost of quantum control protocol
DTSTART;VALUE=DATE-TIME:20190801T094000Z
DTEND;VALUE=DATE-TIME:20190801T100000Z
DTSTAMP;VALUE=DATE-TIME:20240229T214621Z
UID:indico-contribution-62@ictp.it
DESCRIPTION:Speakers: OBINNA ABAH (Queen's University\, Belfast)\n//indico
 .ictp.it/event/8705/session/7/contribution/62
LOCATION:ICTP Leonardo Building - Budinich Lecture Hall
URL://indico.ictp.it/event/8705/session/7/contribution/62
END:VEVENT
END:VCALENDAR
