BEGIN:VCALENDAR
VERSION:2.0
PRODID:-//CERN//INDICO//EN
BEGIN:VEVENT
SUMMARY:Repositories
DTSTART;VALUE=DATE-TIME:20190814T090000Z
DTEND;VALUE=DATE-TIME:20190814T110000Z
DTSTAMP;VALUE=DATE-TIME:20240229T214124Z
UID:indico-contribution-46@ictp.it
DESCRIPTION:Speakers: MARJAN GROOTVELD (DANS)\n//indico.ictp.it/event/8706
 /session/11/contribution/46
LOCATION:ICTP Kastler Lecture Hall (AGH)
URL://indico.ictp.it/event/8706/session/11/contribution/46
END:VEVENT
END:VCALENDAR
