BEGIN:VCALENDAR
VERSION:2.0
PRODID:-//CERN//INDICO//EN
BEGIN:VEVENT
SUMMARY:Artificial Neural Networks
DTSTART;VALUE=DATE-TIME:20190814T090000Z
DTEND;VALUE=DATE-TIME:20190814T110000Z
DTSTAMP;VALUE=DATE-TIME:20240229T214032Z
UID:indico-contribution-50@ictp.it
DESCRIPTION:Speakers: ROGER BARLOW (University of Huddersfield)\n//indico.
 ictp.it/event/8706/session/12/contribution/50
LOCATION:ICTP Kastler Lecture Hall (AGH)
URL://indico.ictp.it/event/8706/session/12/contribution/50
END:VEVENT
END:VCALENDAR
