BEGIN:VCALENDAR
VERSION:2.0
PRODID:-//CERN//INDICO//EN
BEGIN:VEVENT
SUMMARY:Ethics exercise for Artifiical Neural Networks
DTSTART;VALUE=DATE-TIME:20190814T154500Z
DTEND;VALUE=DATE-TIME:20190814T160000Z
DTSTAMP;VALUE=DATE-TIME:20240229T214353Z
UID:indico-contribution-52@ictp.it
DESCRIPTION:Speakers: \n//indico.ictp.it/event/8706/session/12/contributio
 n/52
LOCATION:ICTP Kastler Lecture Hall (AGH)
URL://indico.ictp.it/event/8706/session/12/contribution/52
END:VEVENT
END:VCALENDAR
