BEGIN:VCALENDAR
VERSION:2.0
PRODID:-//CERN//INDICO//EN
BEGIN:VEVENT
SUMMARY:Research Computational Infrastructure
DTSTART;VALUE=DATE-TIME:20190815T143000Z
DTEND;VALUE=DATE-TIME:20190815T160000Z
DTSTAMP;VALUE=DATE-TIME:20240229T214055Z
UID:indico-contribution-58@ictp.it
DESCRIPTION:Speakers: ROB QUICK (INDIANA UNIVERSITY)\, ALESSANDRO COSTANTI
 NI (INFN-CNAF) ()\n//indico.ictp.it/event/8706/session/15/contribution/58
LOCATION:ICTP Kastler Lecture Hall (AGH)
URL://indico.ictp.it/event/8706/session/15/contribution/58
END:VEVENT
END:VCALENDAR
