BEGIN:VCALENDAR
VERSION:2.0
PRODID:-//CERN//INDICO//EN
BEGIN:VEVENT
SUMMARY:Other Machine-learning systems
DTSTART;VALUE=DATE-TIME:20190815T063000Z
DTEND;VALUE=DATE-TIME:20190815T083000Z
DTSTAMP;VALUE=DATE-TIME:20240229T214252Z
UID:indico-contribution-15-0-55@ictp.it
DESCRIPTION:Speakers: ROGER BARLOW (University of Huddersfield)\n//indico.
 ictp.it/event/8706/session/15/contribution/55
LOCATION:ICTP Kastler Lecture Hall (AGH)
URL://indico.ictp.it/event/8706/session/15/contribution/55
END:VEVENT
BEGIN:VEVENT
SUMMARY:Research Computational Infrastructure
DTSTART;VALUE=DATE-TIME:20190815T090000Z
DTEND;VALUE=DATE-TIME:20190815T110000Z
DTSTAMP;VALUE=DATE-TIME:20240229T214252Z
UID:indico-contribution-15-0-56@ictp.it
DESCRIPTION:Speakers: ROB QUICK (INDIANA UNIVERSITY)\, ALESSANDRO COSTANTI
 NI (INFN-CNAF) ()\n//indico.ictp.it/event/8706/session/15/contribution/56
LOCATION:ICTP Kastler Lecture Hall (AGH)
URL://indico.ictp.it/event/8706/session/15/contribution/56
END:VEVENT
BEGIN:VEVENT
SUMMARY:Research Computational Infrastructure
DTSTART;VALUE=DATE-TIME:20190815T120000Z
DTEND;VALUE=DATE-TIME:20190815T140000Z
DTSTAMP;VALUE=DATE-TIME:20240229T214252Z
UID:indico-contribution-15-0-57@ictp.it
DESCRIPTION:Speakers: ROB QUICK (INDIANA UNIVERSITY)\, ALESSANDRO COSTANTI
 NI (INFN-CNAF) ()\n//indico.ictp.it/event/8706/session/15/contribution/57
LOCATION:ICTP Kastler Lecture Hall (AGH)
URL://indico.ictp.it/event/8706/session/15/contribution/57
END:VEVENT
BEGIN:VEVENT
SUMMARY:Research Computational Infrastructure
DTSTART;VALUE=DATE-TIME:20190815T143000Z
DTEND;VALUE=DATE-TIME:20190815T160000Z
DTSTAMP;VALUE=DATE-TIME:20240229T214252Z
UID:indico-contribution-15-0-58@ictp.it
DESCRIPTION:Speakers: ROB QUICK (INDIANA UNIVERSITY)\, ALESSANDRO COSTANTI
 NI (INFN-CNAF) ()\n//indico.ictp.it/event/8706/session/15/contribution/58
LOCATION:ICTP Kastler Lecture Hall (AGH)
URL://indico.ictp.it/event/8706/session/15/contribution/58
END:VEVENT
END:VCALENDAR
