BEGIN:VCALENDAR
VERSION:2.0
PRODID:-//CERN//INDICO//EN
BEGIN:VEVENT
SUMMARY:Predatory publishing (optional - remote call)
DTSTART;VALUE=DATE-TIME:20190808T170000Z
DTEND;VALUE=DATE-TIME:20190808T174500Z
DTSTAMP;VALUE=DATE-TIME:20240229T214403Z
UID:indico-contribution-19-0-65@ictp.it
DESCRIPTION:Speakers: \n//indico.ictp.it/event/8706/session/19/contributio
 n/65
LOCATION:ICTP Kastler Lecture Hall (AGH)
URL://indico.ictp.it/event/8706/session/19/contribution/65
END:VEVENT
END:VCALENDAR
