BEGIN:VCALENDAR
VERSION:2.0
PRODID:-//CERN//INDICO//EN
BEGIN:VEVENT
SUMMARY:Github
DTSTART;VALUE=DATE-TIME:20190806T120000Z
DTEND;VALUE=DATE-TIME:20190806T140000Z
DTSTAMP;VALUE=DATE-TIME:20240229T214348Z
UID:indico-contribution-13@ictp.it
DESCRIPTION:Speakers: MARIO ANTONIOLETTI (EPCC\, University of Edinburgh)\
 n//indico.ictp.it/event/8706/session/2/contribution/13
LOCATION:ICTP Kastler Lecture Hall (AGH)
URL://indico.ictp.it/event/8706/session/2/contribution/13
END:VEVENT
END:VCALENDAR
