BEGIN:VCALENDAR
VERSION:2.0
PRODID:-//CERN//INDICO//EN
BEGIN:VEVENT
SUMMARY:Opening Ceremony
DTSTART;VALUE=DATE-TIME:20190805T063000Z
DTEND;VALUE=DATE-TIME:20190805T065000Z
DTSTAMP;VALUE=DATE-TIME:20240229T214110Z
UID:indico-contribution-21-0-77@ictp.it
DESCRIPTION:Speakers: ROMAIN MURENZI (TWAS)\, SANDRO SCANDOLO (ICTP)\n//in
 dico.ictp.it/event/8706/session/21/contribution/77
LOCATION:ICTP Adriatico Guesthouse - Kastler Lecture Hall
URL://indico.ictp.it/event/8706/session/21/contribution/77
END:VEVENT
BEGIN:VEVENT
SUMMARY:Open Science & RCR Overview 1
DTSTART;VALUE=DATE-TIME:20190805T065000Z
DTEND;VALUE=DATE-TIME:20190805T084000Z
DTSTAMP;VALUE=DATE-TIME:20240229T214110Z
UID:indico-contribution-21-0-5@ictp.it
DESCRIPTION:Speakers: LOUISE BEZUIDENHOUT (INSIS\, University of Oxford)\n
 //indico.ictp.it/event/8706/session/21/contribution/5
LOCATION:ICTP Adriatico Guesthouse - Kastler Lecture Hall
URL://indico.ictp.it/event/8706/session/21/contribution/5
END:VEVENT
BEGIN:VEVENT
SUMMARY:ORCID Self-learn
DTSTART;VALUE=DATE-TIME:20190805T090000Z
DTEND;VALUE=DATE-TIME:20190805T110000Z
DTSTAMP;VALUE=DATE-TIME:20240229T214110Z
UID:indico-contribution-21-0-6@ictp.it
DESCRIPTION:Speakers: GAIL CLEMENT (CalTech)\nSelf-learn ORCID / create pr
 ofile (Establish yourself as a researcher on the scholarly web) Non   atte
 ndees can pick up packet for self-guided completion of the exercise\n\n//i
 ndico.ictp.it/event/8706/session/21/contribution/6
LOCATION:ICTP Adriatico Guesthouse - Kastler Lecture Hall
URL://indico.ictp.it/event/8706/session/21/contribution/6
END:VEVENT
END:VCALENDAR
