BEGIN:VCALENDAR
VERSION:2.0
PRODID:-//CERN//INDICO//EN
BEGIN:VEVENT
SUMMARY:Administrative and Financial Formalities
DTSTART;VALUE=DATE-TIME:20190805T090000Z
DTEND;VALUE=DATE-TIME:20190805T110000Z
DTSTAMP;VALUE=DATE-TIME:20240229T214326Z
UID:indico-contribution-25-0-72@ictp.it
DESCRIPTION:Speakers: \nREGISTRATION: Upon arrival\, Visitors not staying 
 in the ICTP Guest Houses\, are kindly requested  to complete registration 
 formalities at the Adriatico Guesthouse as follows:                      O
 ffice 3 (Lower level) from 11.00 till 13.00.\n\nTRAVEL UNIT (Only for thos
 e Visitors receiving daily living allowance/travel reimbursement\, who  ha
 ve not provided their bank account data through the on-line portal)  \nOnl
 y after having completed registration formalities\, please go to the Trave
 l Unit\, Enrico Fermi Building\, Main Entrance\, Room T17\, ground floor\,
  open two days:  \n                  Monday and Friday\, 08.30 - 12.00  an
 d 13.30 - 14.30\n\nPlease bring with you: badge/identity card or passport/
 any travel tickets and boarding passes\, if reimbursement due.\n\n//indico
 .ictp.it/event/8706/session/25/contribution/72
LOCATION:ICTP Adriatico Guesthouse - Office 3\, Lower level
URL://indico.ictp.it/event/8706/session/25/contribution/72
END:VEVENT
END:VCALENDAR
