BEGIN:VCALENDAR
VERSION:2.0
PRODID:-//CERN//INDICO//EN
BEGIN:VEVENT
SUMMARY:R
DTSTART;VALUE=DATE-TIME:20190807T090000Z
DTEND;VALUE=DATE-TIME:20190807T110000Z
DTSTAMP;VALUE=DATE-TIME:20240229T214223Z
UID:indico-contribution-16@ictp.it
DESCRIPTION:Speakers: MARIO ANTONIOLETTI (EPCC\, University of Edinburgh)\
 n//indico.ictp.it/event/8706/session/3/contribution/16
LOCATION:ICTP Kastler Lecture Hall (AGH)
URL://indico.ictp.it/event/8706/session/3/contribution/16
END:VEVENT
END:VCALENDAR
