BEGIN:VCALENDAR
VERSION:2.0
PRODID:-//CERN//INDICO//EN
BEGIN:VEVENT
SUMMARY:Visualisation with R
DTSTART;VALUE=DATE-TIME:20190812T063000Z
DTEND;VALUE=DATE-TIME:20190812T083000Z
DTSTAMP;VALUE=DATE-TIME:20240229T214149Z
UID:indico-contribution-6-0-28@ictp.it
DESCRIPTION:Speakers: SARA EL JADID (IBN TOFAIL UNIVERSITY)\, MARIA SOROKI
 NA (UNIVERSITY OF JENA)\,  ROB QUICK (INDIANA UNIVERSITY) ()\n//indico.ict
 p.it/event/8706/session/6/contribution/28
LOCATION:ICTP Kastler Lecture Hall (AGH)
URL://indico.ictp.it/event/8706/session/6/contribution/28
END:VEVENT
BEGIN:VEVENT
SUMMARY:Visualisation with R
DTSTART;VALUE=DATE-TIME:20190812T090000Z
DTEND;VALUE=DATE-TIME:20190812T110000Z
DTSTAMP;VALUE=DATE-TIME:20240229T214149Z
UID:indico-contribution-6-0-29@ictp.it
DESCRIPTION:Speakers: SARA EL JADID (IBN TOFAIL UNIVERSITY)\, MARIA SOROKI
 NA (UNIVERSITY OF JENA)\,  ROB QUICK (INDIANA UNIVERSITY) ()\n//indico.ict
 p.it/event/8706/session/6/contribution/29
LOCATION:ICTP Kastler Lecture Hall (AGH)
URL://indico.ictp.it/event/8706/session/6/contribution/29
END:VEVENT
BEGIN:VEVENT
SUMMARY:Visualisation with R
DTSTART;VALUE=DATE-TIME:20190812T120000Z
DTEND;VALUE=DATE-TIME:20190812T134500Z
DTSTAMP;VALUE=DATE-TIME:20240229T214149Z
UID:indico-contribution-6-0-30@ictp.it
DESCRIPTION:Speakers: SARA EL JADID (IBN TOFAIL UNIVERSITY)\, MARIA SOROKI
 NA (UNIVERSITY OF JENA)\,  ROB QUICK (INDIANA UNIVERSITY) ()\n//indico.ict
 p.it/event/8706/session/6/contribution/30
LOCATION:ICTP Kastler Lecture Hall (AGH)
URL://indico.ictp.it/event/8706/session/6/contribution/30
END:VEVENT
BEGIN:VEVENT
SUMMARY:Ethics exercise for visualisation
DTSTART;VALUE=DATE-TIME:20190812T134500Z
DTEND;VALUE=DATE-TIME:20190812T140000Z
DTSTAMP;VALUE=DATE-TIME:20240229T214149Z
UID:indico-contribution-6-0-31@ictp.it
DESCRIPTION:Speakers: \n//indico.ictp.it/event/8706/session/6/contribution
 /31
LOCATION:ICTP Kastler Lecture Hall (AGH)
URL://indico.ictp.it/event/8706/session/6/contribution/31
END:VEVENT
END:VCALENDAR
