BEGIN:VCALENDAR
VERSION:2.0
PRODID:-//CERN//INDICO//EN
BEGIN:VEVENT
SUMMARY:Quantum thermodynamics and quantum information 1
DTSTART;VALUE=DATE-TIME:20190814T070000Z
DTEND;VALUE=DATE-TIME:20190814T083000Z
DTSTAMP;VALUE=DATE-TIME:20240229T213341Z
UID:indico-contribution-79-0-348@ictp.it
DESCRIPTION:Speakers: FERDINAND SCHMIDT-KALER (Johannes Gutenberg Universi
 ty of Mainz)\n//indico.ictp.it/event/8714/session/79/contribution/348
LOCATION:ICTP Budinich Lecture Hall
URL://indico.ictp.it/event/8714/session/79/contribution/348
END:VEVENT
BEGIN:VEVENT
SUMMARY:Quantum thermoelectricity (experiments) 2
DTSTART;VALUE=DATE-TIME:20190814T090000Z
DTEND;VALUE=DATE-TIME:20190814T103000Z
DTSTAMP;VALUE=DATE-TIME:20240229T213341Z
UID:indico-contribution-79-0-349@ictp.it
DESCRIPTION:Speakers: LAURENS MOLENKAMP (University of Wuerzburg)\n//indic
 o.ictp.it/event/8714/session/79/contribution/349
LOCATION:ICTP Budinich Lecture Hall
URL://indico.ictp.it/event/8714/session/79/contribution/349
END:VEVENT
BEGIN:VEVENT
SUMMARY:Quantum thermodynamics and quantum information 2
DTSTART;VALUE=DATE-TIME:20190814T123000Z
DTEND;VALUE=DATE-TIME:20190814T140000Z
DTSTAMP;VALUE=DATE-TIME:20240229T213341Z
UID:indico-contribution-79-0-350@ictp.it
DESCRIPTION:Speakers: FERDINAND SCHMIDT-KALER (Johannes Gutenberg Universi
 ty of Mainz)\n//indico.ictp.it/event/8714/session/79/contribution/350
LOCATION:ICTP Budinich Lecture Hall
URL://indico.ictp.it/event/8714/session/79/contribution/350
END:VEVENT
BEGIN:VEVENT
SUMMARY:Informal discussions
DTSTART;VALUE=DATE-TIME:20190814T143000Z
DTEND;VALUE=DATE-TIME:20190814T153000Z
DTSTAMP;VALUE=DATE-TIME:20240229T213341Z
UID:indico-contribution-79-0-351@ictp.it
DESCRIPTION:Speakers: \n//indico.ictp.it/event/8714/session/79/contributio
 n/351
LOCATION:ICTP Budinich Lecture Hall
URL://indico.ictp.it/event/8714/session/79/contribution/351
END:VEVENT
END:VCALENDAR
