BEGIN:VCALENDAR
VERSION:2.0
PRODID:-//CERN//INDICO//EN
BEGIN:VEVENT
SUMMARY:Charge and energy transport in driven electron systems 3
DTSTART;VALUE=DATE-TIME:20190816T070000Z
DTEND;VALUE=DATE-TIME:20190816T083000Z
DTSTAMP;VALUE=DATE-TIME:20240229T213523Z
UID:indico-contribution-356@ictp.it
DESCRIPTION:Speakers: JANINE SPLETTSTOESER (Chalmers University of Technol
 ogy)\n//indico.ictp.it/event/8714/session/81/contribution/356
LOCATION:ICTP Budinich Lecture Hall
URL://indico.ictp.it/event/8714/session/81/contribution/356
END:VEVENT
END:VCALENDAR
