BEGIN:VCALENDAR
VERSION:2.0
PRODID:-//CERN//INDICO//EN
BEGIN:VEVENT
SUMMARY:Quantum Floquet engineering 1
DTSTART;VALUE=DATE-TIME:20190820T070000Z
DTEND;VALUE=DATE-TIME:20190820T083000Z
DTSTAMP;VALUE=DATE-TIME:20240229T213501Z
UID:indico-contribution-83-0-362@ictp.it
DESCRIPTION:Speakers: ANATOLI POLKOVNIKOV (Boston University)\n//indico.ic
 tp.it/event/8714/session/83/contribution/362
LOCATION:ICTP Budinich Lecture Hall
URL://indico.ictp.it/event/8714/session/83/contribution/362
END:VEVENT
BEGIN:VEVENT
SUMMARY:Quantum thermoelectricity (theory) 1
DTSTART;VALUE=DATE-TIME:20190820T090000Z
DTEND;VALUE=DATE-TIME:20190820T103000Z
DTSTAMP;VALUE=DATE-TIME:20240229T213501Z
UID:indico-contribution-83-0-363@ictp.it
DESCRIPTION:Speakers: GIULIANO BENENTI (Università degli Studi dell'Insub
 ria)\n//indico.ictp.it/event/8714/session/83/contribution/363
LOCATION:ICTP Budinich Lecture Hall
URL://indico.ictp.it/event/8714/session/83/contribution/363
END:VEVENT
BEGIN:VEVENT
SUMMARY:Quantum thermodynamics in electronic circuits 2
DTSTART;VALUE=DATE-TIME:20190820T123000Z
DTEND;VALUE=DATE-TIME:20190820T140000Z
DTSTAMP;VALUE=DATE-TIME:20240229T213501Z
UID:indico-contribution-83-0-364@ictp.it
DESCRIPTION:Speakers: JUKKA PEKOLA (Aalto University School of Science)\n/
 /indico.ictp.it/event/8714/session/83/contribution/364
LOCATION:ICTP Budinich Lecture Hall
URL://indico.ictp.it/event/8714/session/83/contribution/364
END:VEVENT
BEGIN:VEVENT
SUMMARY:Informal discussions
DTSTART;VALUE=DATE-TIME:20190820T143000Z
DTEND;VALUE=DATE-TIME:20190820T153000Z
DTSTAMP;VALUE=DATE-TIME:20240229T213501Z
UID:indico-contribution-83-0-365@ictp.it
DESCRIPTION:Speakers: \n//indico.ictp.it/event/8714/session/83/contributio
 n/365
LOCATION:ICTP Budinich Lecture Hall
URL://indico.ictp.it/event/8714/session/83/contribution/365
END:VEVENT
END:VCALENDAR
