BEGIN:VCALENDAR
VERSION:2.0
PRODID:-//CERN//INDICO//EN
BEGIN:VEVENT
SUMMARY:Quantum thermodynamics in electronic circuits 3
DTSTART;VALUE=DATE-TIME:20190821T123000Z
DTEND;VALUE=DATE-TIME:20190821T140000Z
DTSTAMP;VALUE=DATE-TIME:20240229T213357Z
UID:indico-contribution-368@ictp.it
DESCRIPTION:Speakers: JUKKA PEKOLA (Aalto University School of Science)\n/
 /indico.ictp.it/event/8714/session/84/contribution/368
LOCATION:ICTP Budinich Lecture Hall
URL://indico.ictp.it/event/8714/session/84/contribution/368
END:VEVENT
END:VCALENDAR
