BEGIN:VCALENDAR
VERSION:2.0
PRODID:-//CERN//INDICO//EN
BEGIN:VEVENT
SUMMARY:Informal discussions
DTSTART;VALUE=DATE-TIME:20190821T143000Z
DTEND;VALUE=DATE-TIME:20190821T153000Z
DTSTAMP;VALUE=DATE-TIME:20240229T213446Z
UID:indico-contribution-369@ictp.it
DESCRIPTION:Speakers: \n//indico.ictp.it/event/8714/session/84/contributio
 n/369
LOCATION:ICTP Budinich Lecture Hall
URL://indico.ictp.it/event/8714/session/84/contribution/369
END:VEVENT
END:VCALENDAR
