BEGIN:VCALENDAR
VERSION:2.0
PRODID:-//CERN//INDICO//EN
BEGIN:VEVENT
SUMMARY:Quantum fluctuation-dissipation relations 2
DTSTART;VALUE=DATE-TIME:20190822T123000Z
DTEND;VALUE=DATE-TIME:20190822T140000Z
DTSTAMP;VALUE=DATE-TIME:20240229T213603Z
UID:indico-contribution-372@ictp.it
DESCRIPTION:Speakers: JUAN PARRONDO (Universidad Complutense de Madrid\, S
 pain)\n//indico.ictp.it/event/8714/session/85/contribution/372
LOCATION:ICTP Budinich Lecture Hall
URL://indico.ictp.it/event/8714/session/85/contribution/372
END:VEVENT
END:VCALENDAR
