BEGIN:VCALENDAR
VERSION:2.0
PRODID:-//CERN//INDICO//EN
BEGIN:VEVENT
SUMMARY:Maxwell Daemon 3
DTSTART;VALUE=DATE-TIME:20190823T123000Z
DTEND;VALUE=DATE-TIME:20190823T140000Z
DTSTAMP;VALUE=DATE-TIME:20240229T213612Z
UID:indico-contribution-376@ictp.it
DESCRIPTION:Speakers: ROSA LOPEZ (Universitat Illes Balears\, Spain)\n//in
 dico.ictp.it/event/8714/session/86/contribution/376
LOCATION:ICTP Budinich Lecture Hall
URL://indico.ictp.it/event/8714/session/86/contribution/376
END:VEVENT
END:VCALENDAR
