BEGIN:VCALENDAR
VERSION:2.0
PRODID:-//CERN//INDICO//EN
BEGIN:VEVENT
SUMMARY:A widely applicable formalism for transport under time-periodic te
 mperatures and chemical potentials
DTSTART;VALUE=DATE-TIME:20190826T145500Z
DTEND;VALUE=DATE-TIME:20190826T150500Z
DTSTAMP;VALUE=DATE-TIME:20240229T213638Z
UID:indico-contribution-387@ictp.it
DESCRIPTION:Speakers: ARCHAK PURKAYASTHA (Trinity College Dublin)\n//indic
 o.ictp.it/event/8714/session/87/contribution/387
LOCATION:ICTP Budinich Lecture Hall
URL://indico.ictp.it/event/8714/session/87/contribution/387
END:VEVENT
END:VCALENDAR
