BEGIN:VCALENDAR
VERSION:2.0
PRODID:-//CERN//INDICO//EN
BEGIN:VEVENT
SUMMARY:Fluctuation-driven Coulomb drag in double quantum dots
DTSTART;VALUE=DATE-TIME:20190829T070000Z
DTEND;VALUE=DATE-TIME:20190829T074500Z
DTSTAMP;VALUE=DATE-TIME:20240229T213419Z
UID:indico-contribution-91-0-409@ictp.it
DESCRIPTION:Speakers: DAVID SANCHEZ (Universitat Illes Balears)\n//indico.
 ictp.it/event/8714/session/91/contribution/409
LOCATION:ICTP Budinich Lecture Hall
URL://indico.ictp.it/event/8714/session/91/contribution/409
END:VEVENT
BEGIN:VEVENT
SUMMARY:Thermoelectricity and heat transport in single-electron systems
DTSTART;VALUE=DATE-TIME:20190829T074500Z
DTEND;VALUE=DATE-TIME:20190829T083000Z
DTSTAMP;VALUE=DATE-TIME:20240229T213419Z
UID:indico-contribution-91-0-410@ictp.it
DESCRIPTION:Speakers: FABIO TADDEI (NEST\, Istituto Nanoscienze-CNR and Sc
 uola Normale Superiore)\n//indico.ictp.it/event/8714/session/91/contributi
 on/410
LOCATION:ICTP Budinich Lecture Hall
URL://indico.ictp.it/event/8714/session/91/contribution/410
END:VEVENT
BEGIN:VEVENT
SUMMARY:Prethermalization and thermalization in isolated quantum systems
DTSTART;VALUE=DATE-TIME:20190829T090000Z
DTEND;VALUE=DATE-TIME:20190829T094500Z
DTSTAMP;VALUE=DATE-TIME:20240229T213419Z
UID:indico-contribution-91-0-411@ictp.it
DESCRIPTION:Speakers: MARCOS RIGOL (Pennsylvania State University)\n//indi
 co.ictp.it/event/8714/session/91/contribution/411
LOCATION:ICTP Budinich Lecture Hall
URL://indico.ictp.it/event/8714/session/91/contribution/411
END:VEVENT
BEGIN:VEVENT
SUMMARY:Rectification of spin and heat currents
DTSTART;VALUE=DATE-TIME:20190829T094500Z
DTEND;VALUE=DATE-TIME:20190829T103000Z
DTSTAMP;VALUE=DATE-TIME:20240229T213419Z
UID:indico-contribution-91-0-412@ictp.it
DESCRIPTION:Speakers: DARIO POLETTI (Singapore University of Technology an
 d Design)\n//indico.ictp.it/event/8714/session/91/contribution/412
LOCATION:ICTP Budinich Lecture Hall
URL://indico.ictp.it/event/8714/session/91/contribution/412
END:VEVENT
BEGIN:VEVENT
SUMMARY:Adiabatic quantum motors and pumps in strongly interacting systems
DTSTART;VALUE=DATE-TIME:20190829T103000Z
DTEND;VALUE=DATE-TIME:20190829T104000Z
DTSTAMP;VALUE=DATE-TIME:20240229T213419Z
UID:indico-contribution-91-0-413@ictp.it
DESCRIPTION:Speakers: FEDERICO RIBETTO (IFEG-CONICET)\n//indico.ictp.it/ev
 ent/8714/session/91/contribution/413
LOCATION:ICTP Budinich Lecture Hall
URL://indico.ictp.it/event/8714/session/91/contribution/413
END:VEVENT
BEGIN:VEVENT
SUMMARY:Halogenation of SiGe monolayer: Robust change in electronic and th
 ermal transport
DTSTART;VALUE=DATE-TIME:20190829T104000Z
DTEND;VALUE=DATE-TIME:20190829T105000Z
DTSTAMP;VALUE=DATE-TIME:20240229T213419Z
UID:indico-contribution-91-0-420@ictp.it
DESCRIPTION:Speakers: KAGDADA HARDIK (Department of Physics\, Institute of
  Infrastructure Technology Research and Management)\n//indico.ictp.it/even
 t/8714/session/91/contribution/420
LOCATION:ICTP Budinich Lecture Hall
URL://indico.ictp.it/event/8714/session/91/contribution/420
END:VEVENT
END:VCALENDAR
