BEGIN:VCALENDAR
VERSION:2.0
PRODID:-//CERN//INDICO//EN
BEGIN:VEVENT
SUMMARY:Current rectification and mobility edges
DTSTART;VALUE=DATE-TIME:20190830T090000Z
DTEND;VALUE=DATE-TIME:20190830T093000Z
DTSTAMP;VALUE=DATE-TIME:20240229T213613Z
UID:indico-contribution-416@ictp.it
DESCRIPTION:Speakers: VINITHA BALACHANDRAN (Singapore University of Techno
 logy and Design)\n//indico.ictp.it/event/8714/session/92/contribution/416
LOCATION:ICTP Budinich Lecture Hall
URL://indico.ictp.it/event/8714/session/92/contribution/416
END:VEVENT
END:VCALENDAR
