BEGIN:VCALENDAR
VERSION:2.0
PRODID:-//CERN//INDICO//EN
BEGIN:VEVENT
SUMMARY:Overview\, motivations\, observations\, open questions
DTSTART;VALUE=DATE-TIME:20190902T080000Z
DTEND;VALUE=DATE-TIME:20190902T093000Z
DTSTAMP;VALUE=DATE-TIME:20240229T212832Z
UID:indico-contribution-1-0-0@ictp.it
DESCRIPTION:Speakers: JEAN PAUL AMPUERO (GEOAZUR\, Nice\, France / CALTECH
 \, Pasadena\, USA)\n//indico.ictp.it/event/8715/session/1/contribution/0
LOCATION:ICTP Kastler Lecture Hall (AGH)
URL://indico.ictp.it/event/8715/session/1/contribution/0
END:VEVENT
BEGIN:VEVENT
SUMMARY:Fracture Mechanics
DTSTART;VALUE=DATE-TIME:20190902T093000Z
DTEND;VALUE=DATE-TIME:20190902T110000Z
DTSTAMP;VALUE=DATE-TIME:20240229T212832Z
UID:indico-contribution-1-0-1@ictp.it
DESCRIPTION:Speakers: JEAN PAUL AMPUERO (GEOAZUR\, Nice\, France / CALTECH
 \, Pasadena\, USA)\n//indico.ictp.it/event/8715/session/1/contribution/1
LOCATION:ICTP Kastler Lecture Hall (AGH)
URL://indico.ictp.it/event/8715/session/1/contribution/1
END:VEVENT
BEGIN:VEVENT
SUMMARY:Fracture mechanics (continued)
DTSTART;VALUE=DATE-TIME:20190902T123000Z
DTEND;VALUE=DATE-TIME:20190902T140000Z
DTSTAMP;VALUE=DATE-TIME:20240229T212832Z
UID:indico-contribution-1-0-2@ictp.it
DESCRIPTION:Speakers: JEAN PAUL AMPUERO (GEOAZUR\, Nice\, France / CALTECH
 \, Pasadena\, USA)\n//indico.ictp.it/event/8715/session/1/contribution/2
LOCATION:ICTP Kastler Lecture Hall (AGH)
URL://indico.ictp.it/event/8715/session/1/contribution/2
END:VEVENT
BEGIN:VEVENT
SUMMARY:Fault friction for dynamic rupture modeling
DTSTART;VALUE=DATE-TIME:20190902T143000Z
DTEND;VALUE=DATE-TIME:20190902T160000Z
DTSTAMP;VALUE=DATE-TIME:20240229T212832Z
UID:indico-contribution-1-0-3@ictp.it
DESCRIPTION:Speakers: JEAN PAUL AMPUERO (GEOAZUR\, Nice\, France / CALTECH
 \, Pasadena\, USA)\n//indico.ictp.it/event/8715/session/1/contribution/3
LOCATION:ICTP Kastler Lecture Hall (AGH)
URL://indico.ictp.it/event/8715/session/1/contribution/3
END:VEVENT
END:VCALENDAR
