BEGIN:VCALENDAR
VERSION:2.0
PRODID:-//CERN//INDICO//EN
BEGIN:VEVENT
SUMMARY:Array seismology and rupture imaging II
DTSTART;VALUE=DATE-TIME:20190911T090000Z
DTEND;VALUE=DATE-TIME:20190911T103000Z
DTSTAMP;VALUE=DATE-TIME:20240229T212536Z
UID:indico-contribution-32@ictp.it
DESCRIPTION:Speakers: LINGSEN MENG (Earthquake Research Institute of Tokyo
 \, Japan)\n//indico.ictp.it/event/8715/session/10/contribution/32
LOCATION:ICTP Adriatico Guest House - Kastler Lecture Hall
URL://indico.ictp.it/event/8715/session/10/contribution/32
END:VEVENT
END:VCALENDAR
