BEGIN:VCALENDAR
VERSION:2.0
PRODID:-//CERN//INDICO//EN
BEGIN:VEVENT
SUMMARY:Discussion of questions by participants
DTSTART;VALUE=DATE-TIME:20190912T070000Z
DTEND;VALUE=DATE-TIME:20190912T083000Z
DTSTAMP;VALUE=DATE-TIME:20240229T212725Z
UID:indico-contribution-35@ictp.it
DESCRIPTION:Speakers: \n//indico.ictp.it/event/8715/session/11/contributio
 n/35
LOCATION:ICTP Kastler Lecture Hall (AGH)
URL://indico.ictp.it/event/8715/session/11/contribution/35
END:VEVENT
END:VCALENDAR
