BEGIN:VCALENDAR
VERSION:2.0
PRODID:-//CERN//INDICO//EN
BEGIN:VEVENT
SUMMARY:Micro-mechanical friction models
DTSTART;VALUE=DATE-TIME:20190912T090000Z
DTEND;VALUE=DATE-TIME:20190912T103000Z
DTSTAMP;VALUE=DATE-TIME:20240229T212836Z
UID:indico-contribution-36@ictp.it
DESCRIPTION:Speakers: MARTIJN VAN DEN ENDE (GEOAZUR\, Nice\, France)\n//in
 dico.ictp.it/event/8715/session/11/contribution/36
LOCATION:ICTP Kastler Lecture Hall (AGH)
URL://indico.ictp.it/event/8715/session/11/contribution/36
END:VEVENT
END:VCALENDAR
