BEGIN:VCALENDAR
VERSION:2.0
PRODID:-//CERN//INDICO//EN
BEGIN:VEVENT
SUMMARY:Induced Seismicity
DTSTART;VALUE=DATE-TIME:20190912T140000Z
DTEND;VALUE=DATE-TIME:20190912T153000Z
DTSTAMP;VALUE=DATE-TIME:20240229T212828Z
UID:indico-contribution-38@ictp.it
DESCRIPTION:Speakers: YIHE HUANG (UNIVERSITY OF MICHIGAN\, USA) ()\n//indi
 co.ictp.it/event/8715/session/11/contribution/38
LOCATION:ICTP Kastler Lecture Hall (AGH)
URL://indico.ictp.it/event/8715/session/11/contribution/38
END:VEVENT
END:VCALENDAR
