BEGIN:VCALENDAR
VERSION:2.0
PRODID:-//CERN//INDICO//EN
BEGIN:VEVENT
SUMMARY:Random forest method
DTSTART;VALUE=DATE-TIME:20190913T140000Z
DTEND;VALUE=DATE-TIME:20190913T153000Z
DTSTAMP;VALUE=DATE-TIME:20240229T212531Z
UID:indico-contribution-42@ictp.it
DESCRIPTION:Speakers: MARTIJN VAN DEN ENDE (GEOAZUR\, Nice\, France)\n//in
 dico.ictp.it/event/8715/session/12/contribution/42
LOCATION:ICTP Kastler Lecture Hall (AGH)
URL://indico.ictp.it/event/8715/session/12/contribution/42
END:VEVENT
END:VCALENDAR
